BEGIN:VCALENDAR
VERSION:2.0
PRODID:-//Schützenbruderschaft St. Hubertus Wamel - ECPv6.15.20//NONSGML v1.0//EN
CALSCALE:GREGORIAN
METHOD:PUBLISH
X-WR-CALNAME:Schützenbruderschaft St. Hubertus Wamel
X-ORIGINAL-URL:https://sthubertus-wamel.de
X-WR-CALDESC:Veranstaltungen für Schützenbruderschaft St. Hubertus Wamel
REFRESH-INTERVAL;VALUE=DURATION:PT1H
X-Robots-Tag:noindex
X-PUBLISHED-TTL:PT1H
BEGIN:VTIMEZONE
TZID:UTC
BEGIN:STANDARD
TZOFFSETFROM:+0000
TZOFFSETTO:+0000
TZNAME:UTC
DTSTART:20230101T000000
END:STANDARD
END:VTIMEZONE
BEGIN:VEVENT
DTSTART;TZID=UTC:20260207T183000
DTEND;TZID=UTC:20260207T235900
DTSTAMP:20260419T140234
CREATED:20260122T184229Z
LAST-MODIFIED:20260122T184437Z
UID:1119-1770489000-1770508740@sthubertus-wamel.de
SUMMARY:Winterfest Wamel 2026
DESCRIPTION:
URL:https://sthubertus-wamel.de/termin/winterfest-wamel-2026/
END:VEVENT
BEGIN:VEVENT
DTSTART;TZID=UTC:20260202T180000
DTEND;TZID=UTC:20260202T200000
DTSTAMP:20260419T140234
CREATED:20260122T184326Z
LAST-MODIFIED:20260122T184326Z
UID:1121-1770055200-1770062400@sthubertus-wamel.de
SUMMARY:Arbeitseinsatz Winterfest
DESCRIPTION:
URL:https://sthubertus-wamel.de/termin/arbeitseinsatz-winterfest/
END:VEVENT
BEGIN:VEVENT
DTSTART;TZID=UTC:20250823T090000
DTEND;TZID=UTC:20250823T190000
DTSTAMP:20260419T140234
CREATED:20250307T205509Z
LAST-MODIFIED:20250307T205509Z
UID:1031-1755939600-1755975600@sthubertus-wamel.de
SUMMARY:Kinderschützenfest
DESCRIPTION:
URL:https://sthubertus-wamel.de/termin/kinderschuetzenfest-2/
LOCATION:Hubertushalle Wamel\, Hermann-Kätelhön-Straße 43\, Möhnesee\, 59519
END:VEVENT
BEGIN:VEVENT
DTSTART;VALUE=DATE:20250704
DTEND;VALUE=DATE:20250707
DTSTAMP:20260419T140234
CREATED:20250302T143116Z
LAST-MODIFIED:20250302T143116Z
UID:1003-1751587200-1751846399@sthubertus-wamel.de
SUMMARY:Schützenfest Wamel 2025
DESCRIPTION:
URL:https://sthubertus-wamel.de/termin/schuetzenfest-wamel-2025/
LOCATION:Hubertushalle Wamel\, Hermann-Kätelhön-Straße 43\, Möhnesee\, 59519
END:VEVENT
BEGIN:VEVENT
DTSTART;TZID=UTC:20250628T200000
DTEND;TZID=UTC:20250628T220000
DTSTAMP:20260419T140234
CREATED:20250302T143221Z
LAST-MODIFIED:20250622T202834Z
UID:1006-1751140800-1751148000@sthubertus-wamel.de
SUMMARY:Bierprobe 2025
DESCRIPTION:Wir laden alle Schützenschwestern und -brüder herzlich zur Bierprobe in die Hubertushalle ein.
URL:https://sthubertus-wamel.de/termin/bierprobe-2025/
END:VEVENT
BEGIN:VEVENT
DTSTART;TZID=UTC:20250420T190000
DTEND;TZID=UTC:20250420T235900
DTSTAMP:20260419T140234
CREATED:20250403T094540Z
LAST-MODIFIED:20250403T094540Z
UID:1067-1745175600-1745193540@sthubertus-wamel.de
SUMMARY:Osterfeuer
DESCRIPTION:Ab 19 Uhr Ostereier Suche\nAb 20 Uhr Anzünden des Feuers
URL:https://sthubertus-wamel.de/termin/osterfeuer/
LOCATION:Hubertushalle Wamel\, Hermann-Kätelhön-Straße 43\, Möhnesee\, 59519
END:VEVENT
BEGIN:VEVENT
DTSTART;TZID=UTC:20250315T200000
DTEND;TZID=UTC:20250315T220000
DTSTAMP:20260419T140234
CREATED:20250302T142902Z
LAST-MODIFIED:20250307T210326Z
UID:1000-1742068800-1742076000@sthubertus-wamel.de
SUMMARY:Generalversammlung 2025
DESCRIPTION:Die Generalversammlung findet am 15.03.2025 statt. \nTagesordnung\n\nEröffnung und Begrüßun\nGedenken an verstorbene Schützenbrüder\nFeststellung der Beschlussfähigkeit\nVerlesen der letzten Niederschrift\nGeschäftsbericht 2024\nJahresabrechnung 2024\nBericht der Kassenprüfer\nEntlastung des Vorstandes\nSatzungsänderung\nVorstandswahlen\n\nstrategischer Geschäftsführer\noperativer Geschäftsführer\nZugführer 1. Zug\nZugführer 2. Zug\nKönigsoffizier\nFähnrich der 1. Fahne\nOffizier der 1. Fahne\n\n\nSchützenfest 2025\nVerschiedenes
URL:https://sthubertus-wamel.de/termin/generalversammlung-2025/
LOCATION:Hubertus Halle\, Hermann Kätelhön Straße 43\, Möhnesee\, 59519
END:VEVENT
BEGIN:VEVENT
DTSTART;VALUE=DATE:20241228
DTEND;VALUE=DATE:20241229
DTSTAMP:20260419T140234
CREATED:20240613T130219Z
LAST-MODIFIED:20240613T130219Z
UID:943-1735344000-1735430399@sthubertus-wamel.de
SUMMARY:Versteigerung
DESCRIPTION:
URL:https://sthubertus-wamel.de/termin/versteigerung/
END:VEVENT
BEGIN:VEVENT
DTSTART;VALUE=DATE:20241226
DTEND;VALUE=DATE:20241227
DTSTAMP:20260419T140234
CREATED:20240613T130155Z
LAST-MODIFIED:20240613T130155Z
UID:941-1735171200-1735257599@sthubertus-wamel.de
SUMMARY:Steffensknechte
DESCRIPTION:
URL:https://sthubertus-wamel.de/termin/steffensknechte/
END:VEVENT
BEGIN:VEVENT
DTSTART;VALUE=DATE:20241220
DTEND;VALUE=DATE:20241222
DTSTAMP:20260419T140234
CREATED:20240613T130113Z
LAST-MODIFIED:20240613T130113Z
UID:939-1734652800-1734825599@sthubertus-wamel.de
SUMMARY:Preisknobeln
DESCRIPTION:
URL:https://sthubertus-wamel.de/termin/preisknobeln-10/
END:VEVENT
BEGIN:VEVENT
DTSTART;VALUE=DATE:20241213
DTEND;VALUE=DATE:20241215
DTSTAMP:20260419T140234
CREATED:20240613T130050Z
LAST-MODIFIED:20240613T130050Z
UID:937-1734048000-1734220799@sthubertus-wamel.de
SUMMARY:Preisknobeln
DESCRIPTION:
URL:https://sthubertus-wamel.de/termin/preisknobeln-9/
END:VEVENT
BEGIN:VEVENT
DTSTART;VALUE=DATE:20241207
DTEND;VALUE=DATE:20241208
DTSTAMP:20260419T140234
CREATED:20240613T130023Z
LAST-MODIFIED:20240613T130023Z
UID:935-1733529600-1733615999@sthubertus-wamel.de
SUMMARY:Weihnachtsmarkt
DESCRIPTION:
URL:https://sthubertus-wamel.de/termin/weihnachtsmarkt/
END:VEVENT
BEGIN:VEVENT
DTSTART;VALUE=DATE:20241129
DTEND;VALUE=DATE:20241201
DTSTAMP:20260419T140234
CREATED:20240613T125958Z
LAST-MODIFIED:20240613T125958Z
UID:933-1732838400-1733011199@sthubertus-wamel.de
SUMMARY:Preisknobeln
DESCRIPTION:
URL:https://sthubertus-wamel.de/termin/preisknobeln-8/
END:VEVENT
BEGIN:VEVENT
DTSTART;VALUE=DATE:20241122
DTEND;VALUE=DATE:20241124
DTSTAMP:20260419T140234
CREATED:20240613T125934Z
LAST-MODIFIED:20240613T125934Z
UID:931-1732233600-1732406399@sthubertus-wamel.de
SUMMARY:Preisknobeln
DESCRIPTION:
URL:https://sthubertus-wamel.de/termin/preisknobeln-7/
END:VEVENT
BEGIN:VEVENT
DTSTART;VALUE=DATE:20241116
DTEND;VALUE=DATE:20241117
DTSTAMP:20260419T140234
CREATED:20240613T125908Z
LAST-MODIFIED:20240613T125908Z
UID:929-1731715200-1731801599@sthubertus-wamel.de
SUMMARY:Mitgliederversammlung
DESCRIPTION:
URL:https://sthubertus-wamel.de/termin/mitgliederversammlung-3/
END:VEVENT
BEGIN:VEVENT
DTSTART;VALUE=DATE:20241116
DTEND;VALUE=DATE:20241117
DTSTAMP:20260419T140234
CREATED:20240613T125841Z
LAST-MODIFIED:20240613T125841Z
UID:927-1731715200-1731801599@sthubertus-wamel.de
SUMMARY:Volkstrauertag / Kranzniederlegung / Hubertusmesse
DESCRIPTION:
URL:https://sthubertus-wamel.de/termin/volkstrauertag-kranzniederlegung-hubertusmesse/
END:VEVENT
BEGIN:VEVENT
DTSTART;VALUE=DATE:20241115
DTEND;VALUE=DATE:20241116
DTSTAMP:20260419T140234
CREATED:20240613T125756Z
LAST-MODIFIED:20240613T125756Z
UID:925-1731628800-1731715199@sthubertus-wamel.de
SUMMARY:Kreisversammelung
DESCRIPTION:
URL:https://sthubertus-wamel.de/termin/kreisversammelung/
END:VEVENT
BEGIN:VEVENT
DTSTART;VALUE=DATE:20241115
DTEND;VALUE=DATE:20241116
DTSTAMP:20260419T140234
CREATED:20240613T125732Z
LAST-MODIFIED:20240613T125732Z
UID:923-1731628800-1731715199@sthubertus-wamel.de
SUMMARY:Preisknobeln
DESCRIPTION:
URL:https://sthubertus-wamel.de/termin/preisknobeln-6/
END:VEVENT
BEGIN:VEVENT
DTSTART;VALUE=DATE:20240914
DTEND;VALUE=DATE:20240915
DTSTAMP:20260419T140234
CREATED:20240613T125635Z
LAST-MODIFIED:20240613T125635Z
UID:921-1726272000-1726358399@sthubertus-wamel.de
SUMMARY:Kreiskönigsschießen Hewingsen
DESCRIPTION:
URL:https://sthubertus-wamel.de/termin/kreiskoenigsschiessen-hewingsen/
END:VEVENT
BEGIN:VEVENT
DTSTART;VALUE=DATE:20240906
DTEND;VALUE=DATE:20240908
DTSTAMP:20260419T140234
CREATED:20240613T125602Z
LAST-MODIFIED:20240613T125602Z
UID:919-1725580800-1725753599@sthubertus-wamel.de
SUMMARY:Jubiläum Schützenbruderschaft Niederense
DESCRIPTION:
URL:https://sthubertus-wamel.de/termin/jubilaeum-schuetzenbruderschaft-niederense/
END:VEVENT
BEGIN:VEVENT
DTSTART;VALUE=DATE:20240830
DTEND;VALUE=DATE:20240902
DTSTAMP:20260419T140234
CREATED:20240613T125522Z
LAST-MODIFIED:20240613T125522Z
UID:917-1724976000-1725235199@sthubertus-wamel.de
SUMMARY:Europaschützenfest Mondsee
DESCRIPTION:
URL:https://sthubertus-wamel.de/termin/europaschuetzenfest-mondsee/
END:VEVENT
BEGIN:VEVENT
DTSTART;VALUE=DATE:20240818
DTEND;VALUE=DATE:20240819
DTSTAMP:20260419T140234
CREATED:20240613T125423Z
LAST-MODIFIED:20240613T125423Z
UID:915-1723939200-1724025599@sthubertus-wamel.de
SUMMARY:Kinderschützenfest Wamel
DESCRIPTION:
URL:https://sthubertus-wamel.de/termin/kinderschuetzenfest-wamel/
END:VEVENT
BEGIN:VEVENT
DTSTART;VALUE=DATE:20240809
DTEND;VALUE=DATE:20240811
DTSTAMP:20260419T140234
CREATED:20240613T125357Z
LAST-MODIFIED:20240613T130246Z
UID:913-1723161600-1723334399@sthubertus-wamel.de
SUMMARY:Jubiläum Schützenfest Niederbergheim
DESCRIPTION:
URL:https://sthubertus-wamel.de/termin/jubilaeums-schuetzenfest-niederbergheim/
END:VEVENT
BEGIN:VEVENT
DTSTART;VALUE=DATE:20240803
DTEND;VALUE=DATE:20240804
DTSTAMP:20260419T140234
CREATED:20240613T125302Z
LAST-MODIFIED:20240613T125302Z
UID:911-1722643200-1722729599@sthubertus-wamel.de
SUMMARY:Besuch Schützenfest Völlinghausen
DESCRIPTION:
URL:https://sthubertus-wamel.de/termin/besuch-schuetzenfest-voellinghausen/
END:VEVENT
BEGIN:VEVENT
DTSTART;VALUE=DATE:20240720
DTEND;VALUE=DATE:20240721
DTSTAMP:20260419T140234
CREATED:20240613T125225Z
LAST-MODIFIED:20240613T125225Z
UID:909-1721433600-1721519999@sthubertus-wamel.de
SUMMARY:Besuch Schützenfest Stockum
DESCRIPTION:
URL:https://sthubertus-wamel.de/termin/besuch-schuetzenfest-stockum/
END:VEVENT
BEGIN:VEVENT
DTSTART;VALUE=DATE:20240705
DTEND;VALUE=DATE:20240708
DTSTAMP:20260419T140234
CREATED:20240613T130409Z
LAST-MODIFIED:20240613T130409Z
UID:946-1720137600-1720396799@sthubertus-wamel.de
SUMMARY:Schützenfest Wamel
DESCRIPTION:
URL:https://sthubertus-wamel.de/termin/schuetzenfest-wamel/
END:VEVENT
BEGIN:VEVENT
DTSTART;VALUE=DATE:20240629
DTEND;VALUE=DATE:20240630
DTSTAMP:20260419T140234
CREATED:20240402T183124Z
LAST-MODIFIED:20240402T183124Z
UID:885-1719619200-1719705599@sthubertus-wamel.de
SUMMARY:Bierprobe
DESCRIPTION:
URL:https://sthubertus-wamel.de/termin/bierprobe-2/
END:VEVENT
BEGIN:VEVENT
DTSTART;VALUE=DATE:20240628
DTEND;VALUE=DATE:20240629
DTSTAMP:20260419T140234
CREATED:20240402T183102Z
LAST-MODIFIED:20240613T125118Z
UID:883-1719532800-1719619199@sthubertus-wamel.de
SUMMARY:Besuch Schützenfest Delecke
DESCRIPTION:
URL:https://sthubertus-wamel.de/termin/schuetzenfest-delecke/
END:VEVENT
BEGIN:VEVENT
DTSTART;VALUE=DATE:20240623
DTEND;VALUE=DATE:20240624
DTSTAMP:20260419T140234
CREATED:20240613T124919Z
LAST-MODIFIED:20240613T131046Z
UID:903-1719100800-1719187199@sthubertus-wamel.de
SUMMARY:Besuch Schützenfest Büecke-Berlingsen-Wippringsen - Teilnahme am Umzug
DESCRIPTION:
URL:https://sthubertus-wamel.de/termin/schuetzenfest-bbw-teilnahme-am-umzug/
END:VEVENT
BEGIN:VEVENT
DTSTART;VALUE=DATE:20240615
DTEND;VALUE=DATE:20240616
DTSTAMP:20260419T140234
CREATED:20240613T124806Z
LAST-MODIFIED:20240613T124806Z
UID:901-1718409600-1718495999@sthubertus-wamel.de
SUMMARY:Besuch Schützenfest Niederbergheim
DESCRIPTION:
URL:https://sthubertus-wamel.de/termin/besuch-schuetzenfest-niederbergheim/
END:VEVENT
END:VCALENDAR